BEGIN:VCALENDAR
VERSION:2.0
PRODID:-//Envision Frederick County - ECPv6.15.17//NONSGML v1.0//EN
CALSCALE:GREGORIAN
METHOD:PUBLISH
X-WR-CALNAME:Envision Frederick County
X-ORIGINAL-URL:https://envisionfrederickcounty.org
X-WR-CALDESC:Events for Envision Frederick County
REFRESH-INTERVAL;VALUE=DURATION:PT1H
X-Robots-Tag:noindex
X-PUBLISHED-TTL:PT1H
BEGIN:VTIMEZONE
TZID:America/New_York
BEGIN:DAYLIGHT
TZOFFSETFROM:-0500
TZOFFSETTO:-0400
TZNAME:EDT
DTSTART:20210314T070000
END:DAYLIGHT
BEGIN:STANDARD
TZOFFSETFROM:-0400
TZOFFSETTO:-0500
TZNAME:EST
DTSTART:20211107T060000
END:STANDARD
BEGIN:DAYLIGHT
TZOFFSETFROM:-0500
TZOFFSETTO:-0400
TZNAME:EDT
DTSTART:20220313T070000
END:DAYLIGHT
BEGIN:STANDARD
TZOFFSETFROM:-0400
TZOFFSETTO:-0500
TZNAME:EST
DTSTART:20221106T060000
END:STANDARD
BEGIN:DAYLIGHT
TZOFFSETFROM:-0500
TZOFFSETTO:-0400
TZNAME:EDT
DTSTART:20230312T070000
END:DAYLIGHT
BEGIN:STANDARD
TZOFFSETFROM:-0400
TZOFFSETTO:-0500
TZNAME:EST
DTSTART:20231105T060000
END:STANDARD
BEGIN:DAYLIGHT
TZOFFSETFROM:-0500
TZOFFSETTO:-0400
TZNAME:EDT
DTSTART:20240310T070000
END:DAYLIGHT
BEGIN:STANDARD
TZOFFSETFROM:-0400
TZOFFSETTO:-0500
TZNAME:EST
DTSTART:20241103T060000
END:STANDARD
END:VTIMEZONE
BEGIN:VEVENT
DTSTART;TZID=America/New_York:20231206T180000
DTEND;TZID=America/New_York:20231206T200000
DTSTAMP:20260419T103140
CREATED:20231206T023201Z
LAST-MODIFIED:20231206T023201Z
UID:16305-1701885600-1701892800@envisionfrederickcounty.org
SUMMARY:Green Drinks: Zero Waste at Frederick Social / with Sierra Club-Catoctin Group
DESCRIPTION:Join Envision and Sierra Club Catoctin Group as we co-host Green Drinks at Frederick Social. Learn how the owners have made this a zero waste cafe!
URL:https://envisionfrederickcounty.org/event/green-drinks-zero-waste-at-frederick-social-with-sierra-club-catoctin-group/
LOCATION:Frederick Social\, 50 Citizens Way\, Frederick\, MD\, 21701\, United States
ORGANIZER;CN="Envision Frederick County":MAILTO:ebenvision@gmail.com
END:VEVENT
BEGIN:VEVENT
DTSTART;TZID=America/New_York:20230607T180000
DTEND;TZID=America/New_York:20230607T200000
DTSTAMP:20260419T103140
CREATED:20230506T143232Z
LAST-MODIFIED:20230506T143232Z
UID:16263-1686160800-1686168000@envisionfrederickcounty.org
SUMMARY:Green Drinks / Bee City! How Middletown Did It & Why
DESCRIPTION:Bee City! How Middletown Did It & Why\nSpeaker: Cindy Unangst\nMiddletown Green Team Co-Chair and Town Planner \nJoin us at the Main Cup in Middletown to learn how and why your town can become a Bee City.
URL:https://envisionfrederickcounty.org/event/green-drinks-bee-city-how-middletown-did-it-why/
LOCATION:Main Cup\, 14 W. Main Street\, Middletown\, 21769\, United States
END:VEVENT
BEGIN:VEVENT
DTSTART;TZID=America/New_York:20230513T100000
DTEND;TZID=America/New_York:20230513T120000
DTSTAMP:20260419T103140
CREATED:20230405T190913Z
LAST-MODIFIED:20230506T141457Z
UID:16238-1683972000-1683979200@envisionfrederickcounty.org
SUMMARY:Envision Essentials: Growing Pains? Development in Frederick County
DESCRIPTION:PLEASE NOTE NEW VENUE IN URBANA!\nGrowing Pains?\nDevelopment in Frederick County:\nLearn to Effectively Advocate \nSpeakers: \nKim Gaines   |  Director\, Livable Frederick Planning & Design Office\nRichard Klein  |  Founder\, CEDS  |  Author: How To Win Land Development Issues\nSteve McKay |  County Council Member\, District 2 \nIf you and your friends and neighbors are sometimes surprised or frustrated with how our county is growing\, attend this helpful two hour session to learn how to be involved in the process\, before it’s too late. Our speakers will discuss growth and development in the county from their three distinct perspectives. There will be time for your questions\, too! \nREGISTER HERE
URL:https://envisionfrederickcounty.org/event/envision-essentials-growing-pains-development-in-frederick-county/
LOCATION:Urbana Regional Library / Upstairs Conference Room\, 900 Amelung Street\, Frederick\, 21704\, United States
ORGANIZER;CN="Envision Frederick County":MAILTO:ebenvision@gmail.com
END:VEVENT
BEGIN:VEVENT
DTSTART;TZID=America/New_York:20230419T180000
DTEND;TZID=America/New_York:20230419T200000
DTSTAMP:20260419T103140
CREATED:20230405T013937Z
LAST-MODIFIED:20230506T143214Z
UID:15465-1681927200-1681934400@envisionfrederickcounty.org
SUMMARY:Green Drinks / The Maryland the Beautiful Act
DESCRIPTION:The Maryland the Beautiful Act\nIncreasing Wildlife Habitat and Climate Resiliency \nSpeakers: David Lillard\, Catoctin Land Trust\nand Shannon O’Neil\, Frederick County Land Preservation Planner \nJoin us at Attaboy Brewery to hear brief remarks from our speakers\, and discuss how Frederick County can increase our climate resiliency by preserving habitat and using our lands wisely. \n 
URL:https://envisionfrederickcounty.org/event/green-drinks-the-maryland-the-beautiful-act/
LOCATION:Attaboy Beer\, 400 Sagner Ave.\, Frederick\, 21701\, United States
END:VEVENT
BEGIN:VEVENT
DTSTART;VALUE=DATE:20221006
DTEND;VALUE=DATE:20221109
DTSTAMP:20260419T103140
CREATED:20221007T011935Z
LAST-MODIFIED:20221007T201358Z
UID:16186-1665014400-1667951999@envisionfrederickcounty.org
SUMMARY:Make a difference in Frederick County — Let’s get out the vote!
DESCRIPTION:The Environmental Voter Project estimates that over 13 million already-registered voters who care deeply about the environment are currently unlikely to vote in the 2022 midterm elections. But we need them to vote now\, more than ever. \nClimate resilience and preparedness\, land use (or smart growth)\, preservation\, local agriculture\, and green jobs are some of the environmental issues that are at stake in our competitive\, local races. Important decisions made locally can shape a neighborhood\, city or county for generations. Every vote counts! \nEnvision Frederick County needs you to help Get Out The Vote. \nJoin us throughout October as we canvass\, knocking on doors to make sure voters have a plan to vote.\n \nThis is a nonpartisan effort. \nResearch demonstrates that personal contact is the most effective tool that turns out voters. Come along with us and we’ll teach you how to canvass\, to urge citizens to get out to the polls. \nThose engaged by nonprofits are 11% MORE likely to vote than those NOT contacted\, reports Nonprofit Vote. Please join us!
URL:https://envisionfrederickcounty.org/event/make-a-difference-in-frederick-county-lets-get-out-the-vote/
LOCATION:MD
ATTACH;FMTTYPE=image/jpeg:https://envisionfrederickcounty.org/wp-content/uploads/2022/10/frederick.overhead-smlr.jpg
END:VEVENT
BEGIN:VEVENT
DTSTART;TZID=America/New_York:20221001T100000
DTEND;TZID=America/New_York:20221001T120000
DTSTAMP:20260419T103140
CREATED:20220906T160839Z
LAST-MODIFIED:20221007T011745Z
UID:16127-1664618400-1664625600@envisionfrederickcounty.org
SUMMARY:Envision Essentials: Make a difference in Frederick County — Get out the vote!
DESCRIPTION:The Environmental Voter Project estimates that over 13 million already-registered voters who care deeply about the environment are currently unlikely to vote in the 2022 midterm elections. But we need them to vote now\, more than ever. \nClimate resilience and preparedness\, land use (or smart growth)\, preservation\, local agriculture\, and green jobs are some of the environmental issues that are at stake in our competitive\, local races. Important decisions made locally can shape a neighborhood\, city or county for generations. Every vote counts! \nEnvision Frederick County needs you to help Get Out The Vote. \nCome to our free nonpartisan Essentials training on October 1 to find out: \n\nwhat races are taking place\,\nwhat the key environmental issues are\,\nhow to find out information on candidates and their past voting records\,\nand how to get voters to the polls.\n\nResearch demonstrates that personal contact is the most effective tool that turns out voters. We will learn how to organize a canvassing operation to urge citizens to get out to the polls. \nLearn how we plan to make voting easier and share what’s at stake with other Frederick County environmental voters. Those engaged by nonprofits are 11% MORE likely to vote than those NOT contacted\, reports Nonprofit Vote. Please join us! \nOur speakers: Dr. Kerri Hesley\, on behalf of the Sierra Club\, will discuss the importance of voting to be sure important local\, state\, and federal environmental legislation passes. Mary Beth Coker\, M.S.\, of League of Women Voters\, will detail efforts and resources available to voters through the LWV. Diane Fink\, executive director of Emerge Maryland\, will discuss how to talk about voting and will train attendees to canvass potential voters to urge them to the polls.
URL:https://envisionfrederickcounty.org/event/envision-essentials-make-a-difference-in-frederick-county-get-out-the-vote/
LOCATION:Lincoln Elementary School\, 200 Madison Street\, Frederick\, MD\, 21701\, United States
ATTACH;FMTTYPE=image/jpeg:https://envisionfrederickcounty.org/wp-content/uploads/2022/09/env.voting.graphic.horiz_.d4.jpg
END:VEVENT
BEGIN:VEVENT
DTSTART;TZID=America/New_York:20220608T183000
DTEND;TZID=America/New_York:20220608T210000
DTSTAMP:20260419T103140
CREATED:20220327T210718Z
LAST-MODIFIED:20220327T210718Z
UID:15475-1654713000-1654722000@envisionfrederickcounty.org
SUMMARY:Envision Annual Spring Dinner
DESCRIPTION:We’re back! After a 2 year hiatus\, we will once again be able to hold our Annual Dinner! \nJoin us for an evening of fun and inspiration at our traditional venue\, Thorpewood. \nOur keynote speaker will be Xavier Brown of Soilful City\, a space in Washington\, DC dedicated to connecting humans and nature through information\, ideas\, and people in urban environments. Creating Leadership through the wisdom of nature. Soilful City partners with other grassroots organizations to create community led urban sustainable projects by using urban agriculture and the wisdom of nature to reconnect people back to the earth. Soilful City seeks to find the intersecting points between urban agriculture and other social justice issues.
URL:https://envisionfrederickcounty.org/event/envision-annual-spring-dinner/
LOCATION:Thorpewood\, 12805-A Mink Farm Road\, Thurmont\, MD\, 21788
ORGANIZER;CN="Envision Frederick County":MAILTO:ebenvision@gmail.com
END:VEVENT
BEGIN:VEVENT
DTSTART;TZID=America/New_York:20220521T090000
DTEND;TZID=America/New_York:20220521T140000
DTSTAMP:20260419T103140
CREATED:20220327T210234Z
LAST-MODIFIED:20220327T210234Z
UID:15472-1653123600-1653141600@envisionfrederickcounty.org
SUMMARY:Envision Essentials Spring Semester: May Course
DESCRIPTION:Join us for our second 2022 Envision Essentials Session\, where we’ll be focusing on Environment and Equity. \nSee speakers here: https://envisionfrederickcounty.dm.networkforgood.com/emails/envision-announces-the-speaker-lineup-for-spring-2022-essentials \nSee details and register here: https://envisionfrederickcounty.networkforgood.com/events/40767-envision-essentials-2022-tr
URL:https://envisionfrederickcounty.org/event/envision-essentials-spring-semester-may-course/
LOCATION:Common Market Food Co-Op\, 927 W 7th St\, Frederick\, MD\, 21701
ORGANIZER;CN="Envision Frederick County":MAILTO:ebenvision@gmail.com
END:VEVENT
BEGIN:VEVENT
DTSTART;TZID=America/New_York:20220430T090000
DTEND;TZID=America/New_York:20220430T140000
DTSTAMP:20260419T103140
CREATED:20220327T205550Z
LAST-MODIFIED:20220327T205912Z
UID:15468-1651309200-1651327200@envisionfrederickcounty.org
SUMMARY:Envision Essentials Spring Semester: April Course
DESCRIPTION:Join us for our first 2022 Envision Essentials Session\, where we’ll be focusing on Environment and Equity. \nSee speakers here: https://envisionfrederickcounty.dm.networkforgood.com/emails/envision-announces-the-speaker-lineup-for-spring-2022-essentials \nSee details and register here: https://envisionfrederickcounty.networkforgood.com/events/40767-envision-essentials-2022-tr
URL:https://envisionfrederickcounty.org/event/envision-essentials-spring-semester-april-course/
LOCATION:MD
ORGANIZER;CN="Envision Frederick County":MAILTO:ebenvision@gmail.com
END:VEVENT
END:VCALENDAR